BEGIN:VCALENDAR
VERSION:2.0
PRODID:-//GSBF Bonsai Garden at lake Merritt - ECPv6.13.2.1//NONSGML v1.0//EN
CALSCALE:GREGORIAN
METHOD:PUBLISH
X-ORIGINAL-URL:https://bonsailakemerritt.com
X-WR-CALDESC:Events for GSBF Bonsai Garden at lake Merritt
REFRESH-INTERVAL;VALUE=DURATION:PT1H
X-Robots-Tag:noindex
X-PUBLISHED-TTL:PT1H
BEGIN:VTIMEZONE
TZID:UTC
BEGIN:STANDARD
TZOFFSETFROM:+0000
TZOFFSETTO:+0000
TZNAME:UTC
DTSTART:20240101T000000
END:STANDARD
END:VTIMEZONE
BEGIN:VEVENT
DTSTART;TZID=UTC:20241026T090000
DTEND;TZID=UTC:20241026T170000
DTSTAMP:20260424T163120
CREATED:20240818T150947Z
LAST-MODIFIED:20240818T150947Z
UID:743-1729933200-1729962000@bonsailakemerritt.com
SUMMARY:Pacific Bonsai Expo 2024
DESCRIPTION:An exhibition of extraordinary bonsai. Located at the Henry J. Kaiser Center in Oakland\, California. A two-day event with 75 outstanding bonsai displays and top- quality bonsai vendors.
URL:https://bonsailakemerritt.com/event/pacific-bonsai-expo-2024/
LOCATION:Henry J. Kaiser Center\, 10 10th Street\, Oakland\, CA\, 94607\, United States
ATTACH;FMTTYPE=image/png:https://bonsailakemerritt.com/wp-content/uploads/2024/08/PBE_2024_quarter_pg_ad_with_image.png
END:VEVENT
END:VCALENDAR