BEGIN:VCALENDAR
VERSION:2.0
PRODID:-//GSBF Bonsai Garden at lake Merritt - ECPv6.13.2.1//NONSGML v1.0//EN
CALSCALE:GREGORIAN
METHOD:PUBLISH
X-WR-CALNAME:GSBF Bonsai Garden at lake Merritt
X-ORIGINAL-URL:https://bonsailakemerritt.com
X-WR-CALDESC:Events for GSBF Bonsai Garden at lake Merritt
REFRESH-INTERVAL;VALUE=DURATION:PT1H
X-Robots-Tag:noindex
X-PUBLISHED-TTL:PT1H
BEGIN:VTIMEZONE
TZID:UTC
BEGIN:STANDARD
TZOFFSETFROM:+0000
TZOFFSETTO:+0000
TZNAME:UTC
DTSTART:20250101T000000
END:STANDARD
END:VTIMEZONE
BEGIN:VEVENT
DTSTART;TZID=UTC:20250301T090000
DTEND;TZID=UTC:20250301T170000
DTSTAMP:20260424T151013
CREATED:20240604T234647Z
LAST-MODIFIED:20250425T020015Z
UID:391-1740819600-1740848400@bonsailakemerritt.com
SUMMARY:Mammoth Auction & Sale Fundraiser
DESCRIPTION:The Mammoth Auction & Sale fundraiser is held once a year in the winter at the Lakeside Park Garden Center\, 666 Bellevue Ave.\, Lakeside Park\, Lake Merritt\, Oakland\, California. All proceeds go to support the bonsai garden’s yearly operations. \nThe Mammoth fundraiser is scheduled annually for the first full weekend in March. \nOn Saturday\, there is a live auction of bonsai trees\, pots\, stands\, and related art. Preview of auction items is from 12:00 to 1:00 p.m. Live auction is from 1:00 to 4:00 p.m. \nOn Sunday\, from 9:00 a.m. to 3:00 p.m.\, there are numerous bonsai vendors from the greater San Francisco/Bay Area to sell bonsai trees\, soil\, pots\, tools\, and other bonsai goods. \nOn Sunday\, from 10:00 a.m. to 3:00 p.m.\, there is a bargain sale of bonsai trees\, a ton of pots and other bonsai goods. \nThe annual fundraiser event is well attended by the bonsai community and the public. \n\n\nOfficial Procedures PDF\nAuction Forms\nSale Forms\nCatalog PDF
URL:https://bonsailakemerritt.com/event/mammoth-auction-sale-fundraiser/
LOCATION:CA
ATTACH;FMTTYPE=image/jpeg:https://bonsailakemerritt.com/wp-content/uploads/2024/05/e1.jpg
END:VEVENT
BEGIN:VEVENT
DTSTART;TZID=UTC:20250302T090000
DTEND;TZID=UTC:20250302T150000
DTSTAMP:20260424T151013
CREATED:20240625T221643Z
LAST-MODIFIED:20250320T184245Z
UID:478-1740906000-1740927600@bonsailakemerritt.com
SUMMARY:Mammoth Auction & Sale Fundraiser
DESCRIPTION:The Mammoth Auction & Sale fundraiser is held once a year in the winter at the Lakeside Park Garden Center\, 666 Bellevue Ave.\, Lakeside Park\, Lake Merritt\, Oakland\, California. All proceeds go to support the bonsai garden’s yearly operations. \nThe Mammoth fundraiser is scheduled annually for the first full weekend in March. \nOn Saturday\, there is a live auction of bonsai trees\, pots\, stands\, and related art. Preview of auction items is from 12:00 to 1:00 p.m. Live auction is from 1:00 to 4:00 p.m. \nOn Sunday\, from 9:00 a.m. to 3:00 p.m.\, there are numerous bonsai vendors from the greater San Francisco/Bay Area to sell bonsai trees\, soil\, pots\, tools\, and other bonsai goods. \nOn Sunday\, from 10:00 a.m. to 3:00 p.m.\, there is a bargain sale of bonsai trees\, a ton of pots and other bonsai goods. \nThe annual fundraiser event is well attended by the bonsai community and the public. \n\n\nOfficial Procedures PDF\nAuction Forms\nSale Forms\nCatalog PDF
URL:https://bonsailakemerritt.com/event/mammoth-auction-sale-fundraiser-2/
LOCATION:CA
ATTACH;FMTTYPE=image/jpeg:https://bonsailakemerritt.com/wp-content/uploads/2024/05/e1.jpg
END:VEVENT
BEGIN:VEVENT
DTSTART;TZID=UTC:20250901T110000
DTEND;TZID=UTC:20250901T143000
DTSTAMP:20260424T151013
CREATED:20250324T050114Z
LAST-MODIFIED:20250525T143954Z
UID:1190-1756724400-1756737000@bonsailakemerritt.com
SUMMARY:BGLM Volunteer Appreciation Day
DESCRIPTION:The Bonsai Garden at Lake Merritt (BGLM) annual Volunteer Appreciation Day. Enjoy a social and catered luncheon for all bonsai garden volunteers. \nPlease RSVP with Director Suzanne Muller and request meat or vegetarian options.
URL:https://bonsailakemerritt.com/event/bglm-volunteer-appreciation-day-2/
LOCATION:Bonsai Garden at Lake Merritt\, 650 Bellevue Ave.\,\, Oakland\, CA\, 94610\, United States
ATTACH;FMTTYPE=image/jpeg:https://bonsailakemerritt.com/wp-content/uploads/2025/03/1.jpg
END:VEVENT
BEGIN:VEVENT
DTSTART;TZID=UTC:20251005T080000
DTEND;TZID=UTC:20251005T170000
DTSTAMP:20260424T151013
CREATED:20251003T054944Z
LAST-MODIFIED:20251003T133525Z
UID:1747-1759651200-1759683600@bonsailakemerritt.com
SUMMARY:Autumn Moon-Viewing
DESCRIPTION:Bonsai Garden at Lake Merritt supports the Oakland Fukuoka Sister City Association in their hosting of an evening of moon-viewing. The annual Otsukimi moon-viewing event is held on the Sunday closest to the full harvest moon each October at the Gardens at Lake Merritt.  (https://www.oakland-fukuoka.org/home) \nThe harvest moon is a symbol of blessing and abundance for many cultures\, including Japan. \nSimilar to tea parties\, the moon viewing parties are occasions for sharing food and stories\, while enjoying what is considered the most beautiful moon of the year. \nBGLM opens its gate from 5:00 to 6:00 p.m. for special guests of the Otsukimi moon-viewing party to be among bonsai masterpieces. \nReservation required. \nFor reservations – Call 510.325.3729 or email ofsca1962@gmail.com.
URL:https://bonsailakemerritt.com/event/autumn-moon-viewing-2/
LOCATION:Bonsai Garden at Lake Merritt\, 650 Bellevue Ave.\,\, Oakland\, CA\, 94610\, United States
ATTACH;FMTTYPE=image/webp:https://bonsailakemerritt.com/wp-content/uploads/2025/10/Autumn-Moon-Viewing.webp
ORGANIZER;CN="Oakland Fukuoka":MAILTO:ofsca1962@gmail.com
END:VEVENT
BEGIN:VEVENT
DTSTART;TZID=UTC:20251016T180000
DTEND;TZID=UTC:20251016T230000
DTSTAMP:20260424T151013
CREATED:20250324T045019Z
LAST-MODIFIED:20250324T045019Z
UID:1184-1760637600-1760655600@bonsailakemerritt.com
SUMMARY:Autumn Lights Festival
DESCRIPTION:The Bonsai Garden at Lake Merritt (BGLM) takes pride in Oakland’s Autumn Lights Festival (ALF). The three-night event raises funds for the Gardens at Lake Merritt\, which includes the BGLM. \nThe Gardens at Lake Merritt were established more than a half century ago. They are a collection of themed gardens requiring varying levels of maintenance. Volunteers provide much needed care and maintenance. The gardens are a tranquil oasis in the heart of Oakland and provide public educational programs. (https://gardensatlakemerritt.org/)
URL:https://bonsailakemerritt.com/event/autumn-lights-festival-5/
LOCATION:Gardens at Lake Merritt\, 666 Bellevue Avenue\, Oakland\, CA\, 94610\, United States
ATTACH;FMTTYPE=image/jpeg:https://bonsailakemerritt.com/wp-content/uploads/2024/07/ALF25_4x6_SaveTheDate_website-1156x1536-1.jpg
END:VEVENT
BEGIN:VEVENT
DTSTART;TZID=UTC:20260307T120000
DTEND;TZID=UTC:20260307T160000
DTSTAMP:20260424T151013
CREATED:20250527T062923Z
LAST-MODIFIED:20250527T065435Z
UID:1422-1772884800-1772899200@bonsailakemerritt.com
SUMMARY:Mammoth Auction & Sale Fundraiser
DESCRIPTION:On Saturday\, there is a live auction of bonsai trees\, pots\, stands\, and related art. Preview of auction items is from 12:00 to 1:00 p.m. Live auction is from 1:00 to 4:00 p.m. \n 
URL:https://bonsailakemerritt.com/event/mammoth-auction-sale-fundraiser-3/
LOCATION:Lakeside Park Garden Center\, 666 Bellevue Avenue\, Oakland\, CA\, 94610\, United States
ATTACH;FMTTYPE=image/jpeg:https://bonsailakemerritt.com/wp-content/uploads/2025/05/Mammoth-Logo-2017-rev-1.jpg
END:VEVENT
BEGIN:VEVENT
DTSTART;TZID=UTC:20260308T090000
DTEND;TZID=UTC:20260308T150000
DTSTAMP:20260424T151013
CREATED:20250527T064039Z
LAST-MODIFIED:20250527T065525Z
UID:1427-1772960400-1772982000@bonsailakemerritt.com
SUMMARY:Mammoth Auction & Sale Fundraiser
DESCRIPTION:On Sunday\, from 9:00 a.m. to 3:00 p.m.\, there are numerous bonsai vendors from the greater San Francisco/Bay Area to sell bonsai trees\, soil\, pots\, tools\, and other bonsai goods. \nOn Sunday\, from 10:00 a.m. to 3:00 p.m.\, there is a bargain sale of bonsai trees\, a ton of pots and other bonsai goods.
URL:https://bonsailakemerritt.com/event/mammoth-auction-sale-fundraiser-3-2/
LOCATION:Lakeside Park Garden Center\, 666 Bellevue Avenue\, Oakland\, CA\, 94610\, United States
ATTACH;FMTTYPE=image/jpeg:https://bonsailakemerritt.com/wp-content/uploads/2025/05/Mammoth-Logo-2017-rev-1.jpg
END:VEVENT
BEGIN:VEVENT
DTSTART;TZID=UTC:20260509T100000
DTEND;TZID=UTC:20260509T153000
DTSTAMP:20260424T151013
CREATED:20240529T235945Z
LAST-MODIFIED:20260401T213738Z
UID:307-1778320800-1778340600@bonsailakemerritt.com
SUMMARY:World Bonsai Day
DESCRIPTION:World Bonsai Day was created in 2010 to promote bonsai and friendship throughout the world. \nWorld Bonsai Day is celebrated to further bonsai awareness and appreciation world-wide. \nThe World Bonsai Friendship Federation World Bonsai Day celebrates the legacy of bonsai master Saburo Kato (1915-2008). A key figure in the modern history of bonsai. Kato was the third-generation owner of Mansei-en\, located in Omiya (just north of Tokyo)\, one of the most famous bonsai nurseries in the world. \nWorld Bonsai Day is recognized annually on the second Saturday of May. \nJoin us at the Bonsai Garden at Lake Merritt for bonsai awareness and appreciation.
URL:https://bonsailakemerritt.com/event/world-bonsai-day/
LOCATION:CA
CATEGORIES:Event
ATTACH;FMTTYPE=image/png:https://bonsailakemerritt.com/wp-content/uploads/2024/05/bonsif.png
END:VEVENT
BEGIN:VEVENT
DTSTART;TZID=UTC:20261015T180000
DTEND;TZID=UTC:20261015T230000
DTSTAMP:20260424T151013
CREATED:20250321T150225Z
LAST-MODIFIED:20260402T164840Z
UID:1180-1792087200-1792105200@bonsailakemerritt.com
SUMMARY:Autumn Lights Festival
DESCRIPTION:The Bonsai Garden at Lake Merritt (BGLM) takes pride in Oakland’s Autumn Lights Festival (ALF). The three-night event raises funds for the Gardens at Lake Merritt\, which includes the BGLM. \nThe Gardens at Lake Merritt were established more than a half century ago. They are a collection of themed gardens requiring varying levels of maintenance. Volunteers provide much needed care and maintenance. The gardens are a tranquil oasis in the heart of Oakland and provide public educational programs. (https://gardensatlakemerritt.org/)
URL:https://bonsailakemerritt.com/event/autumn-lights-festival-4/
LOCATION:Gardens at Lake Merritt\, 666 Bellevue Avenue\, Oakland\, CA\, 94610\, United States
ATTACH;FMTTYPE=image/jpeg:https://bonsailakemerritt.com/wp-content/uploads/2025/03/ALF26_STD_website.jpg
END:VEVENT
BEGIN:VEVENT
DTSTART;TZID=UTC:20261016T180000
DTEND;TZID=UTC:20261016T230000
DTSTAMP:20260424T151013
CREATED:20260402T165458Z
LAST-MODIFIED:20260402T165458Z
UID:1750-1792173600-1792191600@bonsailakemerritt.com
SUMMARY:Autunm Lights Festival
DESCRIPTION:The Bonsai Garden at Lake Merritt (BGLM) takes pride in Oakland’s Autumn Lights Festival (ALF). The three-night event raises funds for the Gardens at Lake Merritt\, which includes the BGLM. \nThe Gardens at Lake Merritt were established more than a half century ago. They are a collection of themed gardens requiring varying levels of maintenance. Volunteers provide much needed care and maintenance. The gardens are a tranquil oasis in the heart of Oakland and provide public educational programs. (https://gardensatlakemerritt.org/)
URL:https://bonsailakemerritt.com/event/autunm-lights-festival/
LOCATION:Gardens at Lake Merritt\, 666 Bellevue Avenue\, Oakland\, CA\, 94610\, United States
ATTACH;FMTTYPE=image/jpeg:https://bonsailakemerritt.com/wp-content/uploads/2025/03/ALF26_STD_website.jpg
END:VEVENT
BEGIN:VEVENT
DTSTART;TZID=UTC:20261017T180000
DTEND;TZID=UTC:20261017T230000
DTSTAMP:20260424T151013
CREATED:20240708T223756Z
LAST-MODIFIED:20260402T165559Z
UID:506-1792260000-1792278000@bonsailakemerritt.com
SUMMARY:Autumn Lights Festival
DESCRIPTION:The Bonsai Garden at Lake Merritt (BGLM) takes pride in Oakland’s Autumn Lights Festival (ALF). The three-night event raises funds for the Gardens at Lake Merritt\, which includes the BGLM. \nThe Gardens at Lake Merritt were established more than a half century ago. They are a collection of themed gardens requiring varying levels of maintenance. Volunteers provide much needed care and maintenance. The gardens are a tranquil oasis in the heart of Oakland and provide public educational programs. (https://gardensatlakemerritt.org/)
URL:https://bonsailakemerritt.com/event/autumn-lights-festival-2/
LOCATION:Gardens at Lake Merritt\, 666 Bellevue Avenue\, Oakland\, CA\, 94610\, United States
ATTACH;FMTTYPE=image/jpeg:https://bonsailakemerritt.com/wp-content/uploads/2025/03/ALF26_STD_website.jpg
END:VEVENT
END:VCALENDAR