BEGIN:VCALENDAR
VERSION:2.0
PRODID:-//GSBF Bonsai Garden at lake Merritt - ECPv6.13.2.1//NONSGML v1.0//EN
CALSCALE:GREGORIAN
METHOD:PUBLISH
X-ORIGINAL-URL:https://bonsailakemerritt.com
X-WR-CALDESC:Events for GSBF Bonsai Garden at lake Merritt
REFRESH-INTERVAL;VALUE=DURATION:PT1H
X-Robots-Tag:noindex
X-PUBLISHED-TTL:PT1H
BEGIN:VTIMEZONE
TZID:UTC
BEGIN:STANDARD
TZOFFSETFROM:+0000
TZOFFSETTO:+0000
TZNAME:UTC
DTSTART:20240101T000000
END:STANDARD
END:VTIMEZONE
BEGIN:VEVENT
DTSTART;VALUE=DATE:20241015
DTEND;VALUE=DATE:20241021
DTSTAMP:20260423T165318
CREATED:20240925T211645Z
LAST-MODIFIED:20250324T052213Z
UID:872-1728950400-1729468799@bonsailakemerritt.com
SUMMARY:BGLM CLOSED during regular daytime hours
DESCRIPTION:BGLM will be closed during regular daytime hours for the Autumn Lights Festival from October 15 October 20.  Please visit the BGLM during the Autumn Lights Festival.
URL:https://bonsailakemerritt.com/event/bglm-closed-for-autumn-lights-festival-preparation/
LOCATION:Bonsai Garden at Lake Merritt\, 650 Bellevue Ave.\,\, Oakland\, CA\, 94610\, United States
END:VEVENT
BEGIN:VEVENT
DTSTART;TZID=UTC:20241013T170000
DTEND;TZID=UTC:20241013T203000
DTSTAMP:20260423T165318
CREATED:20240530T160447Z
LAST-MODIFIED:20251003T054251Z
UID:312-1728838800-1728851400@bonsailakemerritt.com
SUMMARY:Autumn Moon-Viewing
DESCRIPTION:Bonsai Garden at Lake Merritt supports the Oakland Fukuoka Sister City Association in their hosting of an evening of moon-viewing. The annual Otsukimi moon-viewing event is held on the Sunday closest to the full harvest moon each October at the Gardens at Lake Merritt.  (https://www.oakland-fukuoka.org/home) \nThe harvest moon is a symbol of blessing and abundance for many cultures\, including Japan. \nSimilar to tea parties\, the moon viewing parties are occasions for sharing food and stories\, while enjoying what is considered the most beautiful moon of the year. \nBGLM opens its gate from 5:00 to 6:00 p.m. for special guests of the Otsukimi moon-viewing party to be among bonsai masterpieces. \nReservation required. \nFor reservations – Call 510.325.3729 or email ofsca1962@gmail.com.
URL:https://bonsailakemerritt.com/event/autumn-moon-viewing/
LOCATION:CA
ATTACH;FMTTYPE=image/png:https://bonsailakemerritt.com/wp-content/uploads/2024/05/ev22.png
ORGANIZER;CN="Oakland Fukuoka":MAILTO:ofsca1962@gmail.com
END:VEVENT
BEGIN:VEVENT
DTSTART;TZID=UTC:20240902T110000
DTEND;TZID=UTC:20240902T143000
DTSTAMP:20260423T165318
CREATED:20240810T075704Z
LAST-MODIFIED:20250324T052712Z
UID:660-1725274800-1725287400@bonsailakemerritt.com
SUMMARY:BGLM Volunteer Appreciation Day
DESCRIPTION:On September 2\, 2024 (Labor Day)\, the Bonsai Garden at Lake Merritt will host the Volunteer Appreciation Day. A social and catered luncheon for all bonsai garden volunteers. The event is scheduled from 11:00 a.m. to 2:30 p.m. Please be sure to RSVP with Assistant Director Suzanne Muller and request meat or vegetarian options. \n 
URL:https://bonsailakemerritt.com/event/bglm-volunteer-appreciation-day/
LOCATION:Bonsai Garden at Lake Merritt\, 650 Bellevue Ave.\,\, Oakland\, CA\, 94610\, United States
ATTACH;FMTTYPE=image/png:https://bonsailakemerritt.com/wp-content/uploads/2024/08/Untitled-30.png
END:VEVENT
END:VCALENDAR