BEGIN:VCALENDAR
VERSION:2.0
PRODID:-//GSBF Bonsai Garden at lake Merritt - ECPv6.13.2.1//NONSGML v1.0//EN
CALSCALE:GREGORIAN
METHOD:PUBLISH
X-ORIGINAL-URL:https://bonsailakemerritt.com
X-WR-CALDESC:Events for GSBF Bonsai Garden at lake Merritt
REFRESH-INTERVAL;VALUE=DURATION:PT1H
X-Robots-Tag:noindex
X-PUBLISHED-TTL:PT1H
BEGIN:VTIMEZONE
TZID:UTC
BEGIN:STANDARD
TZOFFSETFROM:+0000
TZOFFSETTO:+0000
TZNAME:UTC
DTSTART:20240101T000000
END:STANDARD
END:VTIMEZONE
BEGIN:VEVENT
DTSTART;TZID=UTC:20241109T130000
DTEND;TZID=UTC:20241109T153000
DTSTAMP:20260424T133559
CREATED:20241009T194032Z
LAST-MODIFIED:20241010T054035Z
UID:917-1731157200-1731166200@bonsailakemerritt.com
SUMMARY:25th Anniversary Celebration for Bonsai Garden at Lake Merritt
DESCRIPTION:Twenty-five years ago\, the BGLM opened its gates to the public on November 6\, 1999\, by hosting a Grand Opening celebration of bonsai and suiseki\, held on site at the Gardens of Lake Merritt and Lakeside Park Garden Center. Dennis Makishima was master of ceremonies for the grand opening\, including then Mayor Jerry Brown\, the Consul General of Japan in San Francisco\, John Naka\, Harry Hirao and other Japanese American notable bonsai artists\, Yasuo Mitsuya of Japan\, Recreation and Parks Officials\, and many more. In addition to the ribbon cutting\, there was a lively celebration inside the Lakeside Park Garden Center; all well attended. The San Jose Taiko drum performers were present. \nOn November 9th\, 2024\, BGLM would like to recognize the first 25 years by holding a smaller in scale celebration. Oakland City officials from District 3 and Parks & Recreation\, Friends of the Gardens at Lake Merritt\, the General Counsel of Japan in San Francisco\, Japanese American communities\, and the general public are invited to attend. Free admission. Public parking available. \nLocation: Bonsai Garden at Lake Merritt\, 650 Bellevue Ave.\, Gate 4\, Lakeside Park\, Lake Merritt\, Oakland\, California \nTime: 1:00 to 3:30 p.m. \nPotential speakers: \nGordon Deeg\, Director of BGLM \nCarroll Fife\, District 3 Councilmember \nFred Kelley\, Director of Parks & Recreation \nYo Osumi\, General Counsel of Japan in San Francisco \nEntertainment: \nSonoma County Taiko \nLight refreshments \nPoint of Contact: \nGeorge Haas\, BGLM Marketing Manager 707-762-9154 gwhaas@comcast.net \n 
URL:https://bonsailakemerritt.com/event/25th-anniversary-celebration-for-bonsai-garden-at-lake-merritt/
LOCATION:Bonsai Garden at Lake Merritt\, 650 Bellevue Ave.\,\, Oakland\, CA\, 94610\, United States
ATTACH;FMTTYPE=image/png:https://bonsailakemerritt.com/wp-content/uploads/2024/09/Untitled-1-Book-Ad-Flyer-3.png
END:VEVENT
END:VCALENDAR